BEGIN:VCALENDAR
VERSION:2.0
PRODID:-//Doves Foot Pottery - ECPv5.3.1.1//NONSGML v1.0//EN
CALSCALE:GREGORIAN
METHOD:PUBLISH
X-WR-CALNAME:Doves Foot Pottery
X-ORIGINAL-URL:https://dovesfootpottery.com
X-WR-CALDESC:Events for Doves Foot Pottery
BEGIN:VTIMEZONE
TZID:America/New_York
BEGIN:DAYLIGHT
TZOFFSETFROM:-0500
TZOFFSETTO:-0400
TZNAME:EDT
DTSTART:20190310T070000
END:DAYLIGHT
BEGIN:STANDARD
TZOFFSETFROM:-0400
TZOFFSETTO:-0500
TZNAME:EST
DTSTART:20191103T060000
END:STANDARD
END:VTIMEZONE
BEGIN:VEVENT
DTSTART;TZID=America/New_York:20191109T100000
DTEND;TZID=America/New_York:20191109T150000
DTSTAMP:20260422T073322
CREATED:20191027T152243Z
LAST-MODIFIED:20191027T152243Z
UID:387-1573293600-1573311600@dovesfootpottery.com
SUMMARY:the Artdrive Fall Tour
DESCRIPTION:Doves Foot Pottery will be a guest at Barbara Purdy’s Studio for this Special Tour Event.
URL:https://dovesfootpottery.com/event/the-artdrive-fall-tour/
LOCATION:Barbara Purdy Studio\, 21 Memorial Avenue\, South Dartmouth\, MA\, United States
END:VEVENT
END:VCALENDAR