BEGIN:VCALENDAR
VERSION:2.0
PRODID:-//Doves Foot Pottery - ECPv5.3.1.1//NONSGML v1.0//EN
CALSCALE:GREGORIAN
METHOD:PUBLISH
X-WR-CALNAME:Doves Foot Pottery
X-ORIGINAL-URL:https://dovesfootpottery.com
X-WR-CALDESC:Events for Doves Foot Pottery
BEGIN:VTIMEZONE
TZID:America/New_York
BEGIN:DAYLIGHT
TZOFFSETFROM:-0500
TZOFFSETTO:-0400
TZNAME:EDT
DTSTART:20210314T070000
END:DAYLIGHT
BEGIN:STANDARD
TZOFFSETFROM:-0400
TZOFFSETTO:-0500
TZNAME:EST
DTSTART:20211107T060000
END:STANDARD
END:VTIMEZONE
BEGIN:VEVENT
DTSTART;TZID=America/New_York:20210501T080000
DTEND;TZID=America/New_York:20210531T170000
DTSTAMP:20260421T153614
CREATED:20210320T143716Z
LAST-MODIFIED:20210320T143758Z
UID:2722-1619856000-1622480400@dovesfootpottery.com
SUMMARY:South Coast Artists Members Invitational Exhibit
DESCRIPTION:A preview to the South Coast Artists’ Open Studio Tour. This exhibit will showcase members’ work from Westport and Dartmouth\, MA\, Little Compton and Tiverton\, RI.
URL:https://dovesfootpottery.com/event/south-coast-artists-members-invitational-exhibit/
LOCATION:GALLERY at FOUR\, 3848 Main Road\, Tiverton\, RI\, 02878
END:VEVENT
END:VCALENDAR