BEGIN:VCALENDAR
VERSION:2.0
PRODID:-//Doves Foot Pottery - ECPv5.3.1.1//NONSGML v1.0//EN
CALSCALE:GREGORIAN
METHOD:PUBLISH
X-WR-CALNAME:Doves Foot Pottery
X-ORIGINAL-URL:https://dovesfootpottery.com
X-WR-CALDESC:Events for Doves Foot Pottery
BEGIN:VTIMEZONE
TZID:America/New_York
BEGIN:DAYLIGHT
TZOFFSETFROM:-0500
TZOFFSETTO:-0400
TZNAME:EDT
DTSTART:20200308T070000
END:DAYLIGHT
BEGIN:STANDARD
TZOFFSETFROM:-0400
TZOFFSETTO:-0500
TZNAME:EST
DTSTART:20201101T060000
END:STANDARD
END:VTIMEZONE
BEGIN:VEVENT
DTSTART;TZID=America/New_York:20201112T120000
DTEND;TZID=America/New_York:20201112T160000
DTSTAMP:20260421T193311
CREATED:20201031T145305Z
LAST-MODIFIED:20201031T145305Z
UID:2266-1605182400-1605196800@dovesfootpottery.com
SUMMARY:Pottery Pop-up AHA!
DESCRIPTION:I’ll be on the “Front Porch” at Anthi’s Drawing Room for a Pottery Pop-up. Have lunch at Tia Maria’s then stroll next door to say HI!
URL:https://dovesfootpottery.com/event/pottery-pop-up-aha/
LOCATION:Anthi’s Drawing Room\, 36 North Water Street\, New Bedford\, MA\, 02740\, United States
ORGANIZER;CN="The%20Drawing%20Room":MAILTO:info@anthif.com
END:VEVENT
END:VCALENDAR