BEGIN:VCALENDAR
VERSION:2.0
PRODID:-//Doves Foot Pottery - ECPv5.3.1.1//NONSGML v1.0//EN
CALSCALE:GREGORIAN
METHOD:PUBLISH
X-WR-CALNAME:Doves Foot Pottery
X-ORIGINAL-URL:https://dovesfootpottery.com
X-WR-CALDESC:Events for Doves Foot Pottery
BEGIN:VTIMEZONE
TZID:America/New_York
BEGIN:DAYLIGHT
TZOFFSETFROM:-0500
TZOFFSETTO:-0400
TZNAME:EDT
DTSTART:20210314T070000
END:DAYLIGHT
BEGIN:STANDARD
TZOFFSETFROM:-0400
TZOFFSETTO:-0500
TZNAME:EST
DTSTART:20211107T060000
END:STANDARD
END:VTIMEZONE
BEGIN:VEVENT
DTSTART;TZID=America/New_York:20210424T100000
DTEND;TZID=America/New_York:20210424T160000
DTSTAMP:20260421T165155
CREATED:20210118T195538Z
LAST-MODIFIED:20210118T195538Z
UID:2567-1619258400-1619280000@dovesfootpottery.com
SUMMARY:Local Artisan Show\, Spring in the Garden
DESCRIPTION:A Celebration of Spring with an art show under tents in the gardens of Doves Foot Pottery. Visit our website for a listing of local artisans. 
URL:https://dovesfootpottery.com/event/local-artisan-show-spring-in-the-garden/
LOCATION:Doves Foot Pottery\, 219 Horseneck Road\, South Dartmouth\, MA\, 02748\, United States
END:VEVENT
END:VCALENDAR