BEGIN:VCALENDAR
VERSION:2.0
PRODID:-//Doves Foot Pottery - ECPv5.3.1.1//NONSGML v1.0//EN
CALSCALE:GREGORIAN
METHOD:PUBLISH
X-WR-CALNAME:Doves Foot Pottery
X-ORIGINAL-URL:https://dovesfootpottery.com
X-WR-CALDESC:Events for Doves Foot Pottery
BEGIN:VTIMEZONE
TZID:America/New_York
BEGIN:DAYLIGHT
TZOFFSETFROM:-0500
TZOFFSETTO:-0400
TZNAME:EDT
DTSTART:20200308T070000
END:DAYLIGHT
BEGIN:STANDARD
TZOFFSETFROM:-0400
TZOFFSETTO:-0500
TZNAME:EST
DTSTART:20201101T060000
END:STANDARD
END:VTIMEZONE
BEGIN:VEVENT
DTSTART;TZID=America/New_York:20201211T100000
DTEND;TZID=America/New_York:20201212T170000
DTSTAMP:20260421T181206
CREATED:20200125T162255Z
LAST-MODIFIED:20200125T162255Z
UID:731-1607680800-1607792400@dovesfootpottery.com
SUMMARY:Local Artisan Show
DESCRIPTION:Each December we gather in a charming local setting to share our hand-made artisan wares.  For over a decade our group has enjoyed celebrating this unique Holiday experience.   \nWe welcome you to our world of traditional and imaginative crafts\, inspired by nature\, classical design and whimsical invention.  We are pleased to open the doors of the Historic Macomber House for you to experience live music\, unique gifts and our art community.
URL:https://dovesfootpottery.com/event/local-artisan-show-2/
LOCATION:Local Artisan Show\, 930 Main Road\, Westport\, MA\, 02790\, United States
END:VEVENT
END:VCALENDAR