BEGIN:VCALENDAR
VERSION:2.0
PRODID:-//Doves Foot Pottery - ECPv5.3.1.1//NONSGML v1.0//EN
CALSCALE:GREGORIAN
METHOD:PUBLISH
X-WR-CALNAME:Doves Foot Pottery
X-ORIGINAL-URL:https://dovesfootpottery.com
X-WR-CALDESC:Events for Doves Foot Pottery
BEGIN:VTIMEZONE
TZID:America/New_York
BEGIN:DAYLIGHT
TZOFFSETFROM:-0500
TZOFFSETTO:-0400
TZNAME:EDT
DTSTART:20190310T070000
END:DAYLIGHT
BEGIN:STANDARD
TZOFFSETFROM:-0400
TZOFFSETTO:-0500
TZNAME:EST
DTSTART:20191103T060000
END:STANDARD
END:VTIMEZONE
BEGIN:VEVENT
DTSTART;TZID=America/New_York:20191212T170000
DTEND;TZID=America/New_York:20191212T200000
DTSTAMP:20260422T062045
CREATED:20191030T002213Z
LAST-MODIFIED:20191030T002213Z
UID:401-1576170000-1576180800@dovesfootpottery.com
SUMMARY:Holiday Shop AHA Night
DESCRIPTION:Holiday Shop AHA Night \nLocal artists offer a unique holiday shopping experience at The Drawing Room \n36 North Water Street in Historic New Bedford
URL:https://dovesfootpottery.com/event/holiday-shop-aha-night/
LOCATION:Anthi’s Drawing Room\, 36 North Water Street\, New Bedford\, MA\, 02740\, United States
END:VEVENT
END:VCALENDAR