BEGIN:VCALENDAR
VERSION:2.0
PRODID:-//Doves Foot Pottery - ECPv5.3.1.1//NONSGML v1.0//EN
CALSCALE:GREGORIAN
METHOD:PUBLISH
X-WR-CALNAME:Doves Foot Pottery
X-ORIGINAL-URL:https://dovesfootpottery.com
X-WR-CALDESC:Events for Doves Foot Pottery
BEGIN:VTIMEZONE
TZID:America/New_York
BEGIN:DAYLIGHT
TZOFFSETFROM:-0500
TZOFFSETTO:-0400
TZNAME:EDT
DTSTART:20200308T070000
END:DAYLIGHT
BEGIN:STANDARD
TZOFFSETFROM:-0400
TZOFFSETTO:-0500
TZNAME:EST
DTSTART:20201101T060000
END:STANDARD
END:VTIMEZONE
BEGIN:VEVENT
DTSTART;VALUE=DATE:20201106
DTEND;VALUE=DATE:20201109
DTSTAMP:20260421T210643
CREATED:20201029T233229Z
LAST-MODIFIED:20201029T233229Z
UID:2252-1604620800-1604879999@dovesfootpottery.com
SUMMARY:Fine Furnishings Shows
DESCRIPTION:Annual show offering American made\, handcrafted furniture and accessories.
URL:https://dovesfootpottery.com/event/fine-furnishings-shows-2/
LOCATION:Waterfire Arts Center\, 475 Valley Street\, Providence\, RI\, 02908\, United States
END:VEVENT
END:VCALENDAR